BEGIN:VCALENDAR
VERSION:2.0
PRODID:-//eventon.com NONSGML v1.0//EN
BEGIN:VEVENT
UID:69e57b649bb54
DTSTAMP:20260420T030332
DTSTART:20260426T220000Z
DTEND:20260427T215900Z
LOCATION:
SUMMARY:Día de Antonia Bandrés FI y Día FASFI
DESCRIPTION: El 27 de abril es un día de celebración dentro de toda la Familia Madre Cándida. En esta fecha recordamos a la beata Mª Antonia Bandrés\,  FI\,  una joven Hija de Jesús que por sus virtudes fue beatificada en el año 1996. Es considerada patrona de las Hijas de Jesús[..]
END:VEVENT
END:VCALENDAR